BEGIN:VCALENDAR
BEGIN:VEVENT
UID:10C360-69C64F80-B-57C3E200
SUMMARY:Fußball Kreismeisterschaft UI13 (WK IV)
CLASS:PUBLIC
TRANSP:OPAQUE
DTSTART;VALUE=DATE:20260427
DTEND;VALUE=DATE:20260428
X-SOGO-COMPONENT-CREATED-BY:jan.hilleke@sktelgte.nrw.schule
CREATED:20260327T093539Z
DTSTAMP:20260327T093539Z
LAST-MODIFIED:20260327T093539Z
END:VEVENT
BEGIN:VEVENT
UID:110417-68305480-4D-6B8B4580
SUMMARY:Sprachstandstest-JG5 - unterrichtsfrei ab 12:40Uhr
CLASS:PUBLIC
TRANSP:OPAQUE
DTSTART;VALUE=DATE:20250618
DTEND;VALUE=DATE:20250619
X-SOGO-COMPONENT-CREATED-BY:jan.hilleke@sktelgte.nrw.schule
CREATED:20250523T105818Z
DTSTAMP:20250523T105818Z
LAST-MODIFIED:20250523T105818Z
END:VEVENT
BEGIN:VEVENT
UID:1171A-5FA17380-1-195893C0
SUMMARY:Besprechung BWO
CLASS:PUBLIC
ATTENDEE;ROLE=REQ-PARTICIPANT;PARTSTAT=ACCEPTED;CN=Susanne Velske-Beimesche
 :mailto:susanne.velske-beimesche@197944.nrw.schule
ATTENDEE;PARTSTAT=ACCEPTED;CN=Andrea Klinksiek;ROLE=REQ-PARTICIPANT:mailto:
 andrea.klinksiek@sktelgte.nrw.schule
ATTENDEE;ROLE=REQ-PARTICIPANT;RSVP=TRUE;PARTSTAT=NEEDS-ACTION;CN=Josef Gött
 e:mailto:josef.goette@sktelgte.nrw.schule
TRANSP:OPAQUE
DTSTART;TZID=Europe/Berlin:20201106T104000
DTEND;TZID=Europe/Berlin:20201106T112500
ORGANIZER;CN="Telgte, SK an der Marienlinde";SENT-BY="MAILTO:helga.quante@s
 ktelgte.nrw.schule":mailto:schulgruppe@197944.nrw.schule
X-SOGO-COMPONENT-CREATED-BY:helga.quante@sktelgte.nrw.schule
CREATED:20201103T151516Z
DTSTAMP:20201103T151516Z
LAST-MODIFIED:20201104T110319Z
END:VEVENT
BEGIN:VEVENT
UID:163B8B-697C8100-B-70E4C900
SUMMARY:Schulkonferenz (19h)
CLASS:PUBLIC
TRANSP:OPAQUE
DTSTART;VALUE=DATE:20260629
DTEND;VALUE=DATE:20260630
X-SOGO-COMPONENT-CREATED-BY:jan.hilleke@sktelgte.nrw.schule
CREATED:20260130T095946Z
DTSTAMP:20260130T095946Z
LAST-MODIFIED:20260130T095946Z
END:VEVENT
BEGIN:VEVENT
UID:165504-697C7F80-3-1E8CF700
SUMMARY:Beginn Osterferien
CLASS:PUBLIC
TRANSP:OPAQUE
DTSTART;VALUE=DATE:20260330
DTEND;VALUE=DATE:20260331
X-SOGO-COMPONENT-CREATED-BY:jan.hilleke@sktelgte.nrw.schule
CREATED:20260130T095250Z
DTSTAMP:20260130T095250Z
LAST-MODIFIED:20260130T095317Z
SEQUENCE:1
END:VEVENT
BEGIN:VEVENT
UID:1660A3-697C8380-3-E0C0140
SUMMARY:Zeugnisausgabe - Beginn Sommerferien
CLASS:PUBLIC
TRANSP:OPAQUE
DTSTART;VALUE=DATE:20260717
DTEND;VALUE=DATE:20260718
X-SOGO-COMPONENT-CREATED-BY:jan.hilleke@sktelgte.nrw.schule
CREATED:20260130T101102Z
DTSTAMP:20260130T101102Z
LAST-MODIFIED:20260130T101102Z
END:VEVENT
BEGIN:VEVENT
UID:1661D3-697C8080-17-49770300
SUMMARY:Schulpflegschaft (19h)
CLASS:PUBLIC
TRANSP:OPAQUE
DTSTART;VALUE=DATE:20260622
DTEND;VALUE=DATE:20260623
X-SOGO-COMPONENT-CREATED-BY:jan.hilleke@sktelgte.nrw.schule
CREATED:20260130T095836Z
DTSTAMP:20260130T095836Z
LAST-MODIFIED:20260130T095836Z
END:VEVENT
BEGIN:VEVENT
UID:1661D8-697C8100-D-375181C0
SUMMARY:Entlassfeier JG10
CLASS:PUBLIC
TRANSP:OPAQUE
DTSTART;VALUE=DATE:20260703
DTEND;VALUE=DATE:20260704
X-SOGO-COMPONENT-CREATED-BY:jan.hilleke@sktelgte.nrw.schule
CREATED:20260130T100040Z
DTSTAMP:20260130T100040Z
LAST-MODIFIED:20260130T100040Z
END:VEVENT
BEGIN:VEVENT
UID:166B2A-697C7F80-1-66A01B00
SUMMARY:Rosenmontag (unterrichtsfrei)
CLASS:PUBLIC
TRANSP:OPAQUE
DTSTART;VALUE=DATE:20260216
DTEND;VALUE=DATE:20260217
X-SOGO-COMPONENT-CREATED-BY:jan.hilleke@sktelgte.nrw.schule
CREATED:20260130T095359Z
DTSTAMP:20260130T095359Z
LAST-MODIFIED:20260130T095359Z
END:VEVENT
BEGIN:VEVENT
UID:166BB7-697C8080-D-50ACF880
SUMMARY:Kennenlernnachmittag (15h)
CLASS:PUBLIC
TRANSP:OPAQUE
DTSTART;VALUE=DATE:20260608
DTEND;VALUE=DATE:20260609
X-SOGO-COMPONENT-CREATED-BY:jan.hilleke@sktelgte.nrw.schule
CREATED:20260130T095818Z
DTSTAMP:20260130T095818Z
LAST-MODIFIED:20260130T095818Z
END:VEVENT
BEGIN:VEVENT
UID:166DC8-697C8080-9-4BF7A480
SUMMARY:ZP10 Mathe
CLASS:PUBLIC
TRANSP:OPAQUE
DTSTART;VALUE=DATE:20260528
DTEND;VALUE=DATE:20260529
X-SOGO-COMPONENT-CREATED-BY:jan.hilleke@sktelgte.nrw.schule
CREATED:20260130T095730Z
DTSTAMP:20260130T095730Z
LAST-MODIFIED:20260130T095730Z
END:VEVENT
BEGIN:VEVENT
UID:166F40-697C8100-5-12625220
SUMMARY:digital gestützter Unterrichtstag
CLASS:PUBLIC
TRANSP:OPAQUE
DTSTART;VALUE=DATE:20260605
DTEND;VALUE=DATE:20260606
X-SOGO-COMPONENT-CREATED-BY:jan.hilleke@sktelgte.nrw.schule
CREATED:20260130T095903Z
DTSTAMP:20260130T095903Z
LAST-MODIFIED:20260130T095903Z
END:VEVENT
BEGIN:VEVENT
UID:167A2B-697C8000-11-3630ADC0
SUMMARY:Schüler- & Elternberatungstag
CLASS:PUBLIC
TRANSP:OPAQUE
DTSTART;VALUE=DATE:20260504
DTEND;VALUE=DATE:20260505
X-SOGO-COMPONENT-CREATED-BY:jan.hilleke@sktelgte.nrw.schule
CREATED:20260130T095610Z
DTSTAMP:20260130T095610Z
LAST-MODIFIED:20260130T095610Z
END:VEVENT
BEGIN:VEVENT
UID:1681B2-697C8080-3-77F8CD80
SUMMARY:Pfingstferien (unterrichtsfrei)
CLASS:PUBLIC
TRANSP:OPAQUE
DTSTART;VALUE=DATE:20260526
DTEND;VALUE=DATE:20260527
X-SOGO-COMPONENT-CREATED-BY:jan.hilleke@sktelgte.nrw.schule
CREATED:20260130T095635Z
DTSTAMP:20260130T095635Z
LAST-MODIFIED:20260130T095635Z
END:VEVENT
BEGIN:VEVENT
UID:1685BD-697C8080-1-39588580
SUMMARY:JG5 Klassenfahrt
CLASS:PUBLIC
TRANSP:OPAQUE
DTSTART;VALUE=DATE:20260518
DTEND;VALUE=DATE:20260519
X-SOGO-COMPONENT-CREATED-BY:jan.hilleke@sktelgte.nrw.schule
CREATED:20260130T095756Z
DTSTAMP:20260130T095756Z
LAST-MODIFIED:20260130T095756Z
END:VEVENT
BEGIN:VEVENT
UID:1685BD-697C8100-5-39588580
SUMMARY:IHK-Preisverleihung JG10 (14h)
CLASS:PUBLIC
TRANSP:OPAQUE
DTSTART;VALUE=DATE:20260615
DTEND;VALUE=DATE:20260616
X-SOGO-COMPONENT-CREATED-BY:jan.hilleke@sktelgte.nrw.schule
CREATED:20260130T100013Z
DTSTAMP:20260130T100013Z
LAST-MODIFIED:20260130T100013Z
END:VEVENT
BEGIN:VEVENT
UID:168638-697C8080-11-202533C0
SUMMARY:ZP10 Deutsch
CLASS:PUBLIC
TRANSP:OPAQUE
DTSTART;VALUE=DATE:20260513
DTEND;VALUE=DATE:20260514
X-SOGO-COMPONENT-CREATED-BY:jan.hilleke@sktelgte.nrw.schule
CREATED:20260130T095659Z
DTSTAMP:20260130T095659Z
LAST-MODIFIED:20260130T095659Z
END:VEVENT
BEGIN:VEVENT
UID:169FCC-697C8080-3-6CF42980
SUMMARY:ZP10 Englisch
CLASS:PUBLIC
TRANSP:OPAQUE
DTSTART;VALUE=DATE:20260519
DTEND;VALUE=DATE:20260520
X-SOGO-COMPONENT-CREATED-BY:jan.hilleke@sktelgte.nrw.schule
CREATED:20260130T095713Z
DTSTAMP:20260130T095713Z
LAST-MODIFIED:20260130T095713Z
END:VEVENT
BEGIN:VEVENT
UID:16A21B-697C8000-13-2F126DC0
SUMMARY:Beginn Praktikum JG9
CLASS:PUBLIC
TRANSP:OPAQUE
DTSTART;VALUE=DATE:20260413
DTEND;VALUE=DATE:20260414
X-SOGO-COMPONENT-CREATED-BY:jan.hilleke@sktelgte.nrw.schule
CREATED:20260130T095453Z
DTSTAMP:20260130T095453Z
LAST-MODIFIED:20260130T095453Z
END:VEVENT
BEGIN:VEVENT
UID:16BE23-697C8380-1-5BD5D680
SUMMARY:Beginn Nichtschwimmerwoche
CLASS:PUBLIC
TRANSP:OPAQUE
DTSTART;VALUE=DATE:20260706
DTEND;VALUE=DATE:20260707
X-SOGO-COMPONENT-CREATED-BY:jan.hilleke@sktelgte.nrw.schule
CREATED:20260130T101124Z
DTSTAMP:20260130T101124Z
LAST-MODIFIED:20260130T101124Z
END:VEVENT
BEGIN:VEVENT
UID:16CFA6-697C8000-1-5BBD0200
SUMMARY:Infoabend WP-I (18:30Uhr)
CLASS:PUBLIC
TRANSP:OPAQUE
DTSTART;VALUE=DATE:20260413
DTEND;VALUE=DATE:20260414
X-SOGO-COMPONENT-CREATED-BY:jan.hilleke@sktelgte.nrw.schule
CREATED:20260130T095526Z
DTSTAMP:20260130T095526Z
LAST-MODIFIED:20260412T185309Z
SEQUENCE:1
END:VEVENT
BEGIN:VEVENT
TRANSP:OPAQUE
DTEND;VALUE=DATE:20210921
UID:1A6D6-613B2180-105-64E45380
DTSTAMP:20210919T110554Z
X-SOGO-COMPONENT-CREATED-BY:gertrud.graefinvonplettenberg@sktelgte.nrw.schu
 le
CLASS:PUBLIC
SEQUENCE:0
X-APPLE-TRAVEL-ADVISORY-BEHAVIOR:AUTOMATIC
SUMMARY:Wandertag 9b
LAST-MODIFIED:20210920T100722Z
CREATED:20210910T091234Z
DTSTART;VALUE=DATE:20210920
BEGIN:VALARM
X-WR-ALARMUID:18AB1BEC-0034-4BEB-B241-4A4E48E61923
UID:18AB1BEC-0034-4BEB-B241-4A4E48E61923
TRIGGER;X-WEBSTATUS=triggered:-PT15H
ATTACH;VALUE=URI:Chord
ACTION:AUDIO
X-APPLE-DEFAULT-ALARM:TRUE
ACKNOWLEDGED:20210919T110554Z
END:VALARM
END:VEVENT
BEGIN:VEVENT
TRANSP:OPAQUE
DTEND;VALUE=DATE:20210914
UID:1ABC9-613B2080-B9-62A52B80
DTSTAMP:20210912T105844Z
X-SOGO-COMPONENT-CREATED-BY:gertrud.graefinvonplettenberg@sktelgte.nrw.schu
 le
CLASS:PUBLIC
SEQUENCE:0
X-APPLE-TRAVEL-ADVISORY-BEHAVIOR:AUTOMATIC
SUMMARY:Wandertag 9d
LAST-MODIFIED:20210912T155214Z
CREATED:20210910T090926Z
DTSTART;VALUE=DATE:20210913
BEGIN:VALARM
X-WR-ALARMUID:C118C8D1-CB6E-477B-BD98-B679C67CE695
UID:C118C8D1-CB6E-477B-BD98-B679C67CE695
TRIGGER;X-WEBSTATUS=triggered:-PT15H
ATTACH;VALUE=URI:Chord
ACTION:AUDIO
X-APPLE-DEFAULT-ALARM:TRUE
ACKNOWLEDGED:20210912T105844Z
END:VALARM
END:VEVENT
BEGIN:VEVENT
UID:1B4DE-613B2100-49-4CB39C80
SUMMARY:Wandertag Jg 5
CLASS:PUBLIC
TRANSP:OPAQUE
DTSTART;VALUE=DATE:20210916
DTEND;VALUE=DATE:20210917
X-SOGO-COMPONENT-CREATED-BY:gertrud.graefinvonplettenberg@sktelgte.nrw.schu
 le
CREATED:20210910T091036Z
DTSTAMP:20210910T091036Z
LAST-MODIFIED:20210910T091036Z
END:VEVENT
BEGIN:VEVENT
UID:1B6C6-613B2100-49-4D8BC800
SUMMARY:SV-Sitzung 5. Stunde
CLASS:PUBLIC
TRANSP:OPAQUE
DTSTART;TZID=Europe/Berlin:20210917T114000
DTEND;TZID=Europe/Berlin:20210917T123000
X-SOGO-COMPONENT-CREATED-BY:gertrud.graefinvonplettenberg@sktelgte.nrw.schu
 le
CREATED:20210910T091157Z
DTSTAMP:20210910T091157Z
LAST-MODIFIED:20210910T091157Z
END:VEVENT
BEGIN:VEVENT
TRANSP:OPAQUE
DTEND;VALUE=DATE:20210918
UID:1B8CB-613B2100-21-19A41460
DTSTAMP:20210916T182106Z
X-SOGO-COMPONENT-CREATED-BY:gertrud.graefinvonplettenberg@sktelgte.nrw.schu
 le
CLASS:PUBLIC
SEQUENCE:0
X-APPLE-TRAVEL-ADVISORY-BEHAVIOR:AUTOMATIC
SUMMARY:Wandertag 9a
LAST-MODIFIED:20210916T192207Z
CREATED:20210910T091101Z
DTSTART;VALUE=DATE:20210917
BEGIN:VALARM
X-WR-ALARMUID:5E200CA6-03D8-4FE1-9A9D-34A9B949E170
UID:5E200CA6-03D8-4FE1-9A9D-34A9B949E170
TRIGGER;X-WEBSTATUS=triggered:-PT15H
ATTACH;VALUE=URI:Chord
ACTION:AUDIO
X-APPLE-DEFAULT-ALARM:TRUE
ACKNOWLEDGED:20210916T182106Z
END:VALARM
END:VEVENT
BEGIN:VEVENT
UID:1E3F2-5EF1EB80-D-87A9770
SUMMARY:Test öffentlicher Schulkalender
CLASS:PUBLIC
X-SOGO-SEND-APPOINTMENT-NOTIFICATIONS:NO
TRANSP:OPAQUE
DTSTART;TZID=Europe/Berlin:20200624T143000
DTEND;TZID=Europe/Berlin:20200624T153000
X-SOGO-COMPONENT-CREATED-BY:christopher.hanrath1@197944.nrw.schule
CREATED:20200623T114547Z
DTSTAMP:20200623T114547Z
LAST-MODIFIED:20200623T114604Z
SEQUENCE:2
END:VEVENT
BEGIN:VEVENT
UID:1EDC-68774200-5-53174B00
SUMMARY:schulinterne Fortbildung (unterrichtsfrei)
CLASS:PUBLIC
TRANSP:OPAQUE
DTSTART;VALUE=DATE:20250909
DTEND;VALUE=DATE:20250910
X-SOGO-COMPONENT-CREATED-BY:jan.hilleke@sktelgte.nrw.schule
CREATED:20250716T060935Z
DTSTAMP:20250716T060935Z
LAST-MODIFIED:20250716T060935Z
END:VEVENT
BEGIN:VEVENT
UID:2259A4-69835500-7-6D360300
SUMMARY:Beginn Schulskifahrt JG8-Abfahrt abends
CLASS:PUBLIC
TRANSP:OPAQUE
DTSTART;VALUE=DATE:20260305
DTEND;VALUE=DATE:20260306
X-SOGO-COMPONENT-CREATED-BY:jan.hilleke@sktelgte.nrw.schule
CREATED:20260204T141752Z
DTSTAMP:20260204T141752Z
LAST-MODIFIED:20260204T141752Z
END:VEVENT
BEGIN:VEVENT
UID:252CD-68774000-7-3590FA80
SUMMARY:Schulanfang
CLASS:PUBLIC
TRANSP:OPAQUE
DTSTART;VALUE=DATE:20250827
DTEND;VALUE=DATE:20250828
X-SOGO-COMPONENT-CREATED-BY:jan.hilleke@sktelgte.nrw.schule
CREATED:20250716T060108Z
DTSTAMP:20250716T060108Z
LAST-MODIFIED:20250716T060108Z
END:VEVENT
BEGIN:VEVENT
UID:252CD-68774080-11-3590FA80
SUMMARY:Mariä-Geburtsmarkt (unterrichtsfrei)
CLASS:PUBLIC
TRANSP:OPAQUE
DTSTART;VALUE=DATE:20250916
DTEND;VALUE=DATE:20250917
X-SOGO-COMPONENT-CREATED-BY:jan.hilleke@sktelgte.nrw.schule
CREATED:20250716T060217Z
DTSTAMP:20250716T060217Z
LAST-MODIFIED:20250716T060217Z
END:VEVENT
BEGIN:VEVENT
UID:254E03-683DB480-97-69913200
SUMMARY:Unterrichtsschluss um 12.40/13.15 Uhr
CLASS:PUBLIC
TRANSP:OPAQUE
DTSTART;VALUE=DATE:20250623
DTEND;VALUE=DATE:20250624
X-SOGO-COMPONENT-CREATED-BY:jan.hilleke@sktelgte.nrw.schule
CREATED:20250602T142707Z
DTSTAMP:20250602T142707Z
LAST-MODIFIED:20250602T142707Z
END:VEVENT
BEGIN:VEVENT
UID:29AFE7-6963C200-1-16C51D00
SUMMARY:Achtung: Distanzunterricht am Montag\, 12.01.2026 aufgrund Unwetter
 warnung
CLASS:PUBLIC
TRANSP:OPAQUE
DTSTART;VALUE=DATE:20260112
DTEND;VALUE=DATE:20260113
X-SOGO-COMPONENT-CREATED-BY:jan.hilleke@sktelgte.nrw.schule
CREATED:20260111T153001Z
DTSTAMP:20260111T153001Z
LAST-MODIFIED:20260111T153001Z
END:VEVENT
BEGIN:VEVENT
UID:2FDC9A-68774180-85-4CCEAB80
SUMMARY:Tag der offenen Tür 10-13h
CLASS:PUBLIC
TRANSP:OPAQUE
DTSTART;VALUE=DATE:20251206
DTEND;VALUE=DATE:20251207
X-SOGO-COMPONENT-CREATED-BY:jan.hilleke@sktelgte.nrw.schule
CREATED:20250716T060652Z
DTSTAMP:20250716T060652Z
LAST-MODIFIED:20250716T060652Z
END:VEVENT
BEGIN:VEVENT
UID:33F67E-6909C780-59-4F7F9180
SUMMARY:schulinterne Fortbildung -unterrichtsfrei
CLASS:PUBLIC
TRANSP:OPAQUE
DTSTART;VALUE=DATE:20251117
DTEND;VALUE=DATE:20251118
X-SOGO-COMPONENT-CREATED-BY:jan.hilleke@sktelgte.nrw.schule
CREATED:20251104T093004Z
DTSTAMP:20251104T093004Z
LAST-MODIFIED:20251104T093004Z
END:VEVENT
BEGIN:VEVENT
UID:3D6244-681DA980-27-52E41E00
SUMMARY:Bundesjugendspiele
CLASS:PUBLIC
TRANSP:OPAQUE
DTSTART;VALUE=DATE:20250701
DTEND;VALUE=DATE:20250702
X-SOGO-COMPONENT-CREATED-BY:jan.hilleke@sktelgte.nrw.schule
CREATED:20250509T070712Z
DTSTAMP:20250509T070712Z
LAST-MODIFIED:20250509T070712Z
END:VEVENT
BEGIN:VEVENT
UID:3D635E-681DA980-F-20AC8EC0
SUMMARY:Abschlussshow 10er 3./4.Std.
CLASS:PUBLIC
TRANSP:OPAQUE
DTSTART;VALUE=DATE:20250626
DTEND;VALUE=DATE:20250627
X-SOGO-COMPONENT-CREATED-BY:jan.hilleke@sktelgte.nrw.schule
CREATED:20250509T070822Z
DTSTAMP:20250509T070822Z
LAST-MODIFIED:20250509T070822Z
END:VEVENT
BEGIN:VEVENT
UID:3DC655-681DA900-89-949E0A0
SUMMARY:Abschiedsfeier AustauschschülerInnen Frankreich 17h
CLASS:PUBLIC
TRANSP:OPAQUE
DTSTART;VALUE=DATE:20250527
DTEND;VALUE=DATE:20250528
X-SOGO-COMPONENT-CREATED-BY:jan.hilleke@sktelgte.nrw.schule
CREATED:20250509T070528Z
DTSTAMP:20250509T070528Z
LAST-MODIFIED:20250509T070528Z
END:VEVENT
BEGIN:VEVENT
UID:3ECA2F-68774080-3-53C58080
SUMMARY:Schulpflegschaft 19h
CLASS:PUBLIC
TRANSP:OPAQUE
DTSTART;VALUE=DATE:20250922
DTEND;VALUE=DATE:20250923
X-SOGO-COMPONENT-CREATED-BY:jan.hilleke@sktelgte.nrw.schule
CREATED:20250716T060259Z
DTSTAMP:20250716T060259Z
LAST-MODIFIED:20250716T060259Z
END:VEVENT
BEGIN:VEVENT
UID:3ECA2F-68774100-9-53C58080
SUMMARY:BK_Infomesse JG10/9
CLASS:PUBLIC
TRANSP:OPAQUE
DTSTART;VALUE=DATE:20251103
DTEND;VALUE=DATE:20251104
X-SOGO-COMPONENT-CREATED-BY:jan.hilleke@sktelgte.nrw.schule
CREATED:20250716T060527Z
DTSTAMP:20250716T060527Z
LAST-MODIFIED:20250716T060527Z
END:VEVENT
BEGIN:VEVENT
UID:3ECA2F-68774100-B-53C58080
SUMMARY:Elterninformationsabend JG8 Berufswahlorientierung 19h
CLASS:PUBLIC
TRANSP:OPAQUE
DTSTART;VALUE=DATE:20251110
DTEND;VALUE=DATE:20251111
X-SOGO-COMPONENT-CREATED-BY:jan.hilleke@sktelgte.nrw.schule
CREATED:20250716T060556Z
DTSTAMP:20250716T060556Z
LAST-MODIFIED:20250716T060556Z
END:VEVENT
BEGIN:VEVENT
UID:3EF8D9-68774180-B-7D658980
SUMMARY:Winterturnier JG5/6
CLASS:PUBLIC
TRANSP:OPAQUE
DTSTART;VALUE=DATE:20260116
DTEND;VALUE=DATE:20260117
X-SOGO-COMPONENT-CREATED-BY:jan.hilleke@sktelgte.nrw.schule
CREATED:20250716T060729Z
DTSTAMP:20250716T060729Z
LAST-MODIFIED:20250716T060729Z
END:VEVENT
BEGIN:VEVENT
UID:3F0EFF-68774180-9-389BE000
SUMMARY:Halbjahreszeugnisse/Ende 1.HJ
CLASS:PUBLIC
TRANSP:OPAQUE
DTSTART;VALUE=DATE:20260206
DTEND;VALUE=DATE:20260207
X-SOGO-COMPONENT-CREATED-BY:jan.hilleke@sktelgte.nrw.schule
CREATED:20250716T060754Z
DTSTAMP:20250716T060754Z
LAST-MODIFIED:20250716T060754Z
END:VEVENT
BEGIN:VEVENT
UID:3FE52B-68774000-5-7E705F80
SUMMARY:Beginn Nachmittagsunterricht (außer JG5)
CLASS:PUBLIC
TRANSP:OPAQUE
DTSTART;VALUE=DATE:20250901
DTEND;VALUE=DATE:20250902
X-SOGO-COMPONENT-CREATED-BY:jan.hilleke@sktelgte.nrw.schule
CREATED:20250716T060147Z
DTSTAMP:20250716T060147Z
LAST-MODIFIED:20250716T060147Z
END:VEVENT
BEGIN:VEVENT
UID:3FE539-68774200-1-213B7D00
SUMMARY:Beginn Praktikum JG8
CLASS:PUBLIC
TRANSP:OPAQUE
DTSTART;VALUE=DATE:20260209
DTEND;VALUE=DATE:20260210
X-SOGO-COMPONENT-CREATED-BY:jan.hilleke@sktelgte.nrw.schule
CREATED:20250716T060846Z
DTSTAMP:20250716T060846Z
LAST-MODIFIED:20250716T060846Z
END:VEVENT
BEGIN:VEVENT
UID:4AF5-68774200-21-7C72F700
SUMMARY:schulinterne LehrerInnenfortbildung (unterrichtsfrei)
CLASS:PUBLIC
TRANSP:OPAQUE
DTSTART;VALUE=DATE:20260209
DTEND;VALUE=DATE:20260210
X-SOGO-COMPONENT-CREATED-BY:jan.hilleke@sktelgte.nrw.schule
CREATED:20250716T060827Z
DTSTAMP:20250716T060827Z
LAST-MODIFIED:20250716T060827Z
END:VEVENT
BEGIN:VEVENT
UID:55C8-68774080-13-2AF5FF80
SUMMARY:Tag des öffentlichen Dienstes JG10 (3.-5. Std.)
CLASS:PUBLIC
TRANSP:OPAQUE
DTSTART;VALUE=DATE:20250917
DTEND;VALUE=DATE:20250918
X-SOGO-COMPONENT-CREATED-BY:jan.hilleke@sktelgte.nrw.schule
CREATED:20250716T060236Z
DTSTAMP:20250716T060236Z
LAST-MODIFIED:20250825T125328Z
SEQUENCE:1
END:VEVENT
BEGIN:VEVENT
UID:5642-68774180-5-390AB040
SUMMARY:Beginn Weihnachtsferien
CLASS:PUBLIC
TRANSP:OPAQUE
DTSTART;VALUE=DATE:20251222
DTEND;VALUE=DATE:20251223
X-SOGO-COMPONENT-CREATED-BY:jan.hilleke@sktelgte.nrw.schule
CREATED:20250716T060712Z
DTSTAMP:20250716T060712Z
LAST-MODIFIED:20250716T060712Z
END:VEVENT
BEGIN:VEVENT
UID:5A48D-67E66180-4F-FA570A0
SUMMARY:Infoabend WPI JG6 -18.30h
CLASS:PUBLIC
TRANSP:OPAQUE
DTSTART;VALUE=DATE:20250428
DTEND;VALUE=DATE:20250429
X-SOGO-COMPONENT-CREATED-BY:jan.hilleke@sktelgte.nrw.schule
CREATED:20250328T084710Z
DTSTAMP:20250328T084710Z
LAST-MODIFIED:20250329T060231Z
SEQUENCE:1
END:VEVENT
BEGIN:VEVENT
UID:5CB58-67E66300-43-2DD5FC40
SUMMARY:Beginn Praktikum JG9
CLASS:PUBLIC
TRANSP:OPAQUE
DTSTART;VALUE=DATE:20250505
DTEND;VALUE=DATE:20250506
X-SOGO-COMPONENT-CREATED-BY:jan.hilleke@sktelgte.nrw.schule
CREATED:20250328T085029Z
DTSTAMP:20250328T085029Z
LAST-MODIFIED:20250329T060258Z
END:VEVENT
BEGIN:VEVENT
UID:5CB58-67E66380-5B-2DD5FC40
SUMMARY:ZP10 Mathe
CLASS:PUBLIC
TRANSP:OPAQUE
DTSTART;VALUE=DATE:20250605
DTEND;VALUE=DATE:20250606
X-SOGO-COMPONENT-CREATED-BY:jan.hilleke@sktelgte.nrw.schule
CREATED:20250328T085335Z
DTSTAMP:20250328T085335Z
LAST-MODIFIED:20250328T085335Z
END:VEVENT
BEGIN:VEVENT
UID:5CCB3-67E66180-13-51EB8B80
SUMMARY:Beginn Osterferien
CLASS:PUBLIC
TRANSP:OPAQUE
DTSTART;VALUE=DATE:20250411
DTEND;VALUE=DATE:20250412
X-SOGO-COMPONENT-CREATED-BY:jan.hilleke@sktelgte.nrw.schule
CREATED:20250328T084457Z
DTSTAMP:20250328T084457Z
LAST-MODIFIED:20250329T060205Z
SEQUENCE:1
END:VEVENT
BEGIN:VEVENT
UID:5CCD9-67E66400-35-43DAE980
SUMMARY:Schulkonferenz -19h
CLASS:PUBLIC
TRANSP:OPAQUE
DTSTART;VALUE=DATE:20250602
DTEND;VALUE=DATE:20250603
X-SOGO-COMPONENT-CREATED-BY:jan.hilleke@sktelgte.nrw.schule
CREATED:20250328T085507Z
DTSTAMP:20250328T085507Z
LAST-MODIFIED:20250329T060346Z
SEQUENCE:1
END:VEVENT
BEGIN:VEVENT
UID:5D5F3-67E66380-7-894B000
SUMMARY:bewegl. Ferientag
CLASS:PUBLIC
TRANSP:OPAQUE
DTSTART;VALUE=DATE:20250620
DTEND;VALUE=DATE:20250621
X-SOGO-COMPONENT-CREATED-BY:jan.hilleke@sktelgte.nrw.schule
CREATED:20250328T085412Z
DTSTAMP:20250328T085412Z
LAST-MODIFIED:20250328T085412Z
END:VEVENT
BEGIN:VEVENT
UID:5D5F3-67E66400-13-894B000
SUMMARY:Entlassfeier JG10
CLASS:PUBLIC
TRANSP:OPAQUE
DTSTART;VALUE=DATE:20250627
DTEND;VALUE=DATE:20250628
X-SOGO-COMPONENT-CREATED-BY:jan.hilleke@sktelgte.nrw.schule
CREATED:20250328T085606Z
DTSTAMP:20250328T085606Z
LAST-MODIFIED:20250328T085606Z
END:VEVENT
BEGIN:VEVENT
UID:5D5F3-67E66480-4F-894B000
SUMMARY:Pfingstferien
CLASS:PUBLIC
TRANSP:OPAQUE
DTSTART;VALUE=DATE:20250610
DTEND;VALUE=DATE:20250611
X-SOGO-COMPONENT-CREATED-BY:jan.hilleke@sktelgte.nrw.schule
CREATED:20250328T085736Z
DTSTAMP:20250328T085736Z
LAST-MODIFIED:20250328T085736Z
END:VEVENT
BEGIN:VEVENT
UID:5D5FD-67E66300-3-22832F40
SUMMARY:bewegl. Ferientag
CLASS:PUBLIC
TRANSP:OPAQUE
DTSTART;VALUE=DATE:20250530
DTEND;VALUE=DATE:20250531
X-SOGO-COMPONENT-CREATED-BY:jan.hilleke@sktelgte.nrw.schule
CREATED:20250328T085141Z
DTSTAMP:20250328T085141Z
LAST-MODIFIED:20250328T085141Z
END:VEVENT
BEGIN:VEVENT
UID:5DC4D-67E66380-3-6B8B4580
SUMMARY:ZP10 Englisch
CLASS:PUBLIC
TRANSP:OPAQUE
DTSTART;VALUE=DATE:20250603
DTEND;VALUE=DATE:20250604
X-SOGO-COMPONENT-CREATED-BY:jan.hilleke@sktelgte.nrw.schule
CREATED:20250328T085306Z
DTSTAMP:20250328T085306Z
LAST-MODIFIED:20250328T085306Z
END:VEVENT
BEGIN:VEVENT
UID:5DE61-67E66300-15-6B8B4580
SUMMARY:Schulpflegschaft -19h
CLASS:PUBLIC
TRANSP:OPAQUE
DTSTART;VALUE=DATE:20250519
DTEND;VALUE=DATE:20250520
X-SOGO-COMPONENT-CREATED-BY:jan.hilleke@sktelgte.nrw.schule
CREATED:20250328T085109Z
DTSTAMP:20250328T085109Z
LAST-MODIFIED:20250329T060322Z
PRIORITY:0
SEQUENCE:1
END:VEVENT
BEGIN:VEVENT
UID:5EE1B-67E66100-3-6B8B4580
SUMMARY:Kennenlernnachmittag JG5 -15:00 bis ca. 17:00
CLASS:PUBLIC
TRANSP:OPAQUE
DTSTART;VALUE=DATE:20250526
DTEND;VALUE=DATE:20250527
X-SOGO-COMPONENT-CREATED-BY:jan.hilleke@sktelgte.nrw.schule
CREATED:20250328T084338Z
DTSTAMP:20250328T084338Z
LAST-MODIFIED:20250525T145337Z
SEQUENCE:3
LOCATION:Aula
END:VEVENT
BEGIN:VEVENT
UID:5EE49-67E66280-7-31DE6280
SUMMARY:Boys'&Girls'-Day JG7/8
CLASS:PUBLIC
TRANSP:OPAQUE
DTSTART;VALUE=DATE:20250403
DTEND;VALUE=DATE:20250404
X-SOGO-COMPONENT-CREATED-BY:jan.hilleke@sktelgte.nrw.schule
CREATED:20250328T084838Z
DTSTAMP:20250328T084838Z
LAST-MODIFIED:20250329T060153Z
END:VEVENT
BEGIN:VEVENT
UID:5F0BB-67E66300-77-7A3E3300
SUMMARY:ZP10 Deutsch
CLASS:PUBLIC
TRANSP:OPAQUE
DTSTART;VALUE=DATE:20250527
DTEND;VALUE=DATE:20250528
X-SOGO-COMPONENT-CREATED-BY:jan.hilleke@sktelgte.nrw.schule
CREATED:20250328T085227Z
DTSTAMP:20250328T085227Z
LAST-MODIFIED:20250328T085227Z
END:VEVENT
BEGIN:VEVENT
UID:6822-68774180-31-37647980
SUMMARY:Infoabend Eltern JG4 18:30 Uhr
CLASS:PUBLIC
TRANSP:OPAQUE
DTSTART;VALUE=DATE:20251124
DTEND;VALUE=DATE:20251125
X-SOGO-COMPONENT-CREATED-BY:jan.hilleke@sktelgte.nrw.schule
CREATED:20250716T060631Z
DTSTAMP:20250716T060631Z
LAST-MODIFIED:20250917T100653Z
SEQUENCE:1
END:VEVENT
BEGIN:VEVENT
UID:7058B-67EA6600-F3-73DB6E80
SUMMARY:Elternabend Frankreichaustausch -19h
CLASS:PUBLIC
TRANSP:OPAQUE
DTSTART;VALUE=DATE:20250429
DTEND;VALUE=DATE:20250430
X-SOGO-COMPONENT-CREATED-BY:jan.hilleke@sktelgte.nrw.schule
CREATED:20250331T095434Z
DTSTAMP:20250331T095434Z
LAST-MODIFIED:20250331T095434Z
END:VEVENT
BEGIN:VEVENT
UID:73D9B-68774080-1-7F818700
SUMMARY:JG10 Berlinfahrt (bis Freitag\, 26.09.)
CLASS:PUBLIC
TRANSP:OPAQUE
DTSTART;VALUE=DATE:20250922
DTEND;VALUE=DATE:20250923
CREATED:20250716T060334Z
DTSTAMP:20250716T060334Z
LAST-MODIFIED:20250716T060401Z
END:VEVENT
BEGIN:VEVENT
UID:73D9E-68774100-7-3EB50B40
SUMMARY:Tag der deutschen Einheit
CLASS:PUBLIC
TRANSP:OPAQUE
DTSTART;VALUE=DATE:20251003
DTEND;VALUE=DATE:20251004
X-SOGO-COMPONENT-CREATED-BY:jan.hilleke@sktelgte.nrw.schule
CREATED:20250716T060437Z
DTSTAMP:20250716T060437Z
LAST-MODIFIED:20250716T060437Z
END:VEVENT
BEGIN:VEVENT
UID:73D9E-68774180-B-3EB50B40
SUMMARY:Schüler- und Elternberatungstag
CLASS:PUBLIC
TRANSP:OPAQUE
DTSTART;VALUE=DATE:20251118
DTEND;VALUE=DATE:20251119
X-SOGO-COMPONENT-CREATED-BY:jan.hilleke@sktelgte.nrw.schule
CREATED:20250716T060616Z
DTSTAMP:20250716T060616Z
LAST-MODIFIED:20250716T060616Z
END:VEVENT
BEGIN:VEVENT
UID:9F518-67A9B880-11-664B1380
SUMMARY:Besuch IHK JG9 3./4.Std.
CLASS:PUBLIC
TRANSP:OPAQUE
DTSTART;VALUE=DATE:20250331
DTEND;VALUE=DATE:20250401
X-SOGO-COMPONENT-CREATED-BY:jan.hilleke@sktelgte.nrw.schule
CREATED:20250210T082731Z
DTSTAMP:20250210T082731Z
LAST-MODIFIED:20250329T060146Z
END:VEVENT
BEGIN:VEVENT
UID:A6AD9-67D15000-1-30C16700
SUMMARY:Schulskifahrt JG8
CLASS:PUBLIC
TRANSP:OPAQUE
DTSTART;VALUE=DATE:20250313
DTEND;VALUE=DATE:20250322
X-SOGO-COMPONENT-CREATED-BY:jan.hilleke@sktelgte.nrw.schule
CREATED:20250312T091402Z
DTSTAMP:20250312T091402Z
LAST-MODIFIED:20250312T105627Z
END:VEVENT
BEGIN:VEVENT
UID:FA3E-68774100-27-6FFED780
SUMMARY:Schulkonferenz 19h
CLASS:PUBLIC
TRANSP:OPAQUE
DTSTART;VALUE=DATE:20250929
DTEND;VALUE=DATE:20250930
X-SOGO-COMPONENT-CREATED-BY:jan.hilleke@sktelgte.nrw.schule
CREATED:20250716T060420Z
DTSTAMP:20250716T060420Z
LAST-MODIFIED:20250716T060420Z
END:VEVENT
BEGIN:VEVENT
UID:FA3E-68774100-29-6FFED780
SUMMARY:Beginn Herbstferien
CLASS:PUBLIC
TRANSP:OPAQUE
DTSTART;VALUE=DATE:20251013
DTEND;VALUE=DATE:20251014
X-SOGO-COMPONENT-CREATED-BY:jan.hilleke@sktelgte.nrw.schule
CREATED:20250716T060506Z
DTSTAMP:20250716T060506Z
LAST-MODIFIED:20250716T060506Z
END:VEVENT
END:VCALENDAR